BEGIN:VCALENDAR
VERSION:2.0
PRODID:-//West Branch - ECPv6.15.20//NONSGML v1.0//EN
CALSCALE:GREGORIAN
METHOD:PUBLISH
X-WR-CALNAME:West Branch
X-ORIGINAL-URL:https://wbrpc.org
X-WR-CALDESC:Events for West Branch
REFRESH-INTERVAL;VALUE=DURATION:PT1H
X-Robots-Tag:noindex
X-PUBLISHED-TTL:PT1H
BEGIN:VTIMEZONE
TZID:America/New_York
BEGIN:DAYLIGHT
TZOFFSETFROM:-0500
TZOFFSETTO:-0400
TZNAME:EDT
DTSTART:20240310T070000
END:DAYLIGHT
BEGIN:STANDARD
TZOFFSETFROM:-0400
TZOFFSETTO:-0500
TZNAME:EST
DTSTART:20241103T060000
END:STANDARD
BEGIN:DAYLIGHT
TZOFFSETFROM:-0500
TZOFFSETTO:-0400
TZNAME:EDT
DTSTART:20250309T070000
END:DAYLIGHT
BEGIN:STANDARD
TZOFFSETFROM:-0400
TZOFFSETTO:-0500
TZNAME:EST
DTSTART:20251102T060000
END:STANDARD
BEGIN:DAYLIGHT
TZOFFSETFROM:-0500
TZOFFSETTO:-0400
TZNAME:EDT
DTSTART:20260308T070000
END:DAYLIGHT
BEGIN:STANDARD
TZOFFSETFROM:-0400
TZOFFSETTO:-0500
TZNAME:EST
DTSTART:20261101T060000
END:STANDARD
END:VTIMEZONE
BEGIN:VEVENT
DTSTART;TZID=America/New_York:20251005T113000
DTEND;TZID=America/New_York:20251005T140000
DTSTAMP:20260421T084636
CREATED:20250603T224826Z
LAST-MODIFIED:20250604T003456Z
UID:10000009-1759663800-1759672800@wbrpc.org
SUMMARY:Pistol Plate
DESCRIPTION:Setup begins at 11:30\, match starts at noon.
URL:https://wbrpc.org/event/pistol-plate-5/
END:VEVENT
BEGIN:VEVENT
DTSTART;TZID=America/New_York:20250920T093000
DTEND;TZID=America/New_York:20250920T120000
DTSTAMP:20260421T084636
CREATED:20250604T004049Z
LAST-MODIFIED:20250604T004102Z
UID:10000020-1758360600-1758369600@wbrpc.org
SUMMARY:2-Gun Match
DESCRIPTION:
URL:https://wbrpc.org/event/2-gun-match-6/
END:VEVENT
BEGIN:VEVENT
DTSTART;TZID=America/New_York:20250907T113000
DTEND;TZID=America/New_York:20250907T140000
DTSTAMP:20260421T084636
CREATED:20250603T224704Z
LAST-MODIFIED:20250603T224721Z
UID:10000008-1757244600-1757253600@wbrpc.org
SUMMARY:Pistol Plate
DESCRIPTION:Setup begins at 11:30\, match starts at noon.
URL:https://wbrpc.org/event/pistol-plate-4/
CATEGORIES:Pistol Plate
END:VEVENT
BEGIN:VEVENT
DTSTART;TZID=America/New_York:20250803T113000
DTEND;TZID=America/New_York:20250803T140000
DTSTAMP:20260421T084636
CREATED:20250603T224426Z
LAST-MODIFIED:20250603T224611Z
UID:10000006-1754220600-1754229600@wbrpc.org
SUMMARY:Pistol Plate
DESCRIPTION:Setup begins at 11:30\, match starts at noon.
URL:https://wbrpc.org/event/pistol-plate-3/
CATEGORIES:Pistol Plate
END:VEVENT
BEGIN:VEVENT
DTSTART;TZID=America/New_York:20250706T113000
DTEND;TZID=America/New_York:20250706T140000
DTSTAMP:20260421T084636
CREATED:20250603T225049Z
LAST-MODIFIED:20250603T225103Z
UID:10000007-1751801400-1751810400@wbrpc.org
SUMMARY:Pistol Plate
DESCRIPTION:Setup begins at 11:30\, match starts at noon.
URL:https://wbrpc.org/event/pistol-plate-6/
CATEGORIES:Pistol Plate
END:VEVENT
BEGIN:VEVENT
DTSTART;TZID=America/New_York:20250601T113000
DTEND;TZID=America/New_York:20250601T140000
DTSTAMP:20260421T084636
CREATED:20250603T214808Z
LAST-MODIFIED:20250603T224130Z
UID:10000004-1748777400-1748786400@wbrpc.org
SUMMARY:Pistol Plate
DESCRIPTION:Setup begins at 11:30\, match starts at noon.
URL:https://wbrpc.org/event/pistol-plate-2/
CATEGORIES:Pistol Plate
END:VEVENT
BEGIN:VEVENT
DTSTART;TZID=America/New_York:20250504T113000
DTEND;TZID=America/New_York:20250504T140000
DTSTAMP:20260421T084636
CREATED:20250603T223744Z
LAST-MODIFIED:20250603T223803Z
UID:10000005-1746358200-1746367200@wbrpc.org
SUMMARY:Pistol Plate
DESCRIPTION:Setup begins at 11:30\, match starts at noon.
URL:https://wbrpc.org/event/pistol-plate/
CATEGORIES:Pistol Plate
END:VEVENT
END:VCALENDAR