BEGIN:VCALENDAR
VERSION:2.0
PRODID:-//West Branch - ECPv6.15.20//NONSGML v1.0//EN
CALSCALE:GREGORIAN
METHOD:PUBLISH
X-WR-CALNAME:West Branch
X-ORIGINAL-URL:https://wbrpc.org
X-WR-CALDESC:Events for West Branch
REFRESH-INTERVAL;VALUE=DURATION:PT1H
X-Robots-Tag:noindex
X-PUBLISHED-TTL:PT1H
BEGIN:VTIMEZONE
TZID:America/New_York
BEGIN:DAYLIGHT
TZOFFSETFROM:-0500
TZOFFSETTO:-0400
TZNAME:EDT
DTSTART:20240310T070000
END:DAYLIGHT
BEGIN:STANDARD
TZOFFSETFROM:-0400
TZOFFSETTO:-0500
TZNAME:EST
DTSTART:20241103T060000
END:STANDARD
BEGIN:DAYLIGHT
TZOFFSETFROM:-0500
TZOFFSETTO:-0400
TZNAME:EDT
DTSTART:20250309T070000
END:DAYLIGHT
BEGIN:STANDARD
TZOFFSETFROM:-0400
TZOFFSETTO:-0500
TZNAME:EST
DTSTART:20251102T060000
END:STANDARD
BEGIN:DAYLIGHT
TZOFFSETFROM:-0500
TZOFFSETTO:-0400
TZNAME:EDT
DTSTART:20260308T070000
END:DAYLIGHT
BEGIN:STANDARD
TZOFFSETFROM:-0400
TZOFFSETTO:-0500
TZNAME:EST
DTSTART:20261101T060000
END:STANDARD
END:VTIMEZONE
BEGIN:VEVENT
DTSTART;TZID=America/New_York:20251018T093000
DTEND;TZID=America/New_York:20251018T120000
DTSTAMP:20260421T073409
CREATED:20250603T232413Z
LAST-MODIFIED:20250603T232532Z
UID:10000019-1760779800-1760788800@wbrpc.org
SUMMARY:2-Gun Match
DESCRIPTION:
URL:https://wbrpc.org/event/2-gun-match-5/
END:VEVENT
BEGIN:VEVENT
DTSTART;TZID=America/New_York:20250816T093000
DTEND;TZID=America/New_York:20250816T120000
DTSTAMP:20260421T073409
CREATED:20250603T231825Z
LAST-MODIFIED:20250603T231839Z
UID:10000018-1755336600-1755345600@wbrpc.org
SUMMARY:2-Gun Match
DESCRIPTION:
URL:https://wbrpc.org/event/2-gun-match-4/
END:VEVENT
BEGIN:VEVENT
DTSTART;TZID=America/New_York:20250719T093000
DTEND;TZID=America/New_York:20250719T120000
DTSTAMP:20260421T073409
CREATED:20250603T231710Z
LAST-MODIFIED:20250603T231725Z
UID:10000017-1752917400-1752926400@wbrpc.org
SUMMARY:2-Gun Match
DESCRIPTION:
URL:https://wbrpc.org/event/2-gun-match-3/
END:VEVENT
BEGIN:VEVENT
DTSTART;TZID=America/New_York:20250621T093000
DTEND;TZID=America/New_York:20250621T120000
DTSTAMP:20260421T073409
CREATED:20250603T231533Z
LAST-MODIFIED:20250603T231549Z
UID:10000016-1750498200-1750507200@wbrpc.org
SUMMARY:2-Gun Match
DESCRIPTION:
URL:https://wbrpc.org/event/2-gun-match-2/
END:VEVENT
BEGIN:VEVENT
DTSTART;TZID=America/New_York:20250517T093000
DTEND;TZID=America/New_York:20250517T120000
DTSTAMP:20260421T073409
CREATED:20250603T231309Z
LAST-MODIFIED:20250603T231324Z
UID:10000015-1747474200-1747483200@wbrpc.org
SUMMARY:2-Gun Match
DESCRIPTION:
URL:https://wbrpc.org/event/2-gun-match/
END:VEVENT
BEGIN:VEVENT
DTSTART;TZID=America/New_York:20250406T110000
DTEND;TZID=America/New_York:20250406T130000
DTSTAMP:20260421T073409
CREATED:20250324T050744Z
LAST-MODIFIED:20250324T050744Z
UID:10000001-1743937200-1743944400@wbrpc.org
SUMMARY:New Member Orientation
DESCRIPTION:For new 2025 members and anyone who would like a refresher.
URL:https://wbrpc.org/event/new-member-orientation/
LOCATION:West Branch\, West Salem\, OH\, 44444\, United States
END:VEVENT
END:VCALENDAR